BEGIN:VCALENDAR
VERSION:2.0
PRODID:icalendar-ruby
CALSCALE:GREGORIAN
METHOD:PUBLISH
BEGIN:VEVENT
DTSTAMP:20260423T174559Z
UID:12-2042926@gbcfam.org
DTSTART:20261103T023000Z
DTEND:20261103T033000Z
CLASS:PUBLIC
CREATED:20260423T104101
DESCRIPTION:Women Of Grace
LAST-MODIFIED:20260423T104101
LOCATION:
SUMMARY:Women Of Grace
URL;VALUE=URI:https://gbcfam.org/events/women-of-grace/2026-11-02
ATTACH;FILENAME=IMG_9472.jpeg;FMTTYPE=image/jpeg:https://dq5pwpg1q8ru0.clou
 dfront.net/2023/05/17/17/58/21/7d1096d4-0db2-4ed2-ae63-e012e4f43801/IMG_94
 72.jpeg
END:VEVENT
END:VCALENDAR
